BEGIN:VCALENDAR
VERSION:2.0
PRODID:-//1st Church Preschool - ECPv6.15.20//NONSGML v1.0//EN
CALSCALE:GREGORIAN
METHOD:PUBLISH
X-WR-CALNAME:1st Church Preschool
X-ORIGINAL-URL:https://1stchurchpreschool.org
X-WR-CALDESC:Events for 1st Church Preschool
REFRESH-INTERVAL;VALUE=DURATION:PT1H
X-Robots-Tag:noindex
X-PUBLISHED-TTL:PT1H
BEGIN:VTIMEZONE
TZID:America/New_York
BEGIN:DAYLIGHT
TZOFFSETFROM:-0500
TZOFFSETTO:-0400
TZNAME:EDT
DTSTART:20170312T070000
END:DAYLIGHT
BEGIN:STANDARD
TZOFFSETFROM:-0400
TZOFFSETTO:-0500
TZNAME:EST
DTSTART:20171105T060000
END:STANDARD
BEGIN:DAYLIGHT
TZOFFSETFROM:-0500
TZOFFSETTO:-0400
TZNAME:EDT
DTSTART:20180311T070000
END:DAYLIGHT
BEGIN:STANDARD
TZOFFSETFROM:-0400
TZOFFSETTO:-0500
TZNAME:EST
DTSTART:20181104T060000
END:STANDARD
BEGIN:DAYLIGHT
TZOFFSETFROM:-0500
TZOFFSETTO:-0400
TZNAME:EDT
DTSTART:20190310T070000
END:DAYLIGHT
BEGIN:STANDARD
TZOFFSETFROM:-0400
TZOFFSETTO:-0500
TZNAME:EST
DTSTART:20191103T060000
END:STANDARD
END:VTIMEZONE
BEGIN:VEVENT
DTSTART;TZID=America/New_York:20181110T090000
DTEND;TZID=America/New_York:20181110T120000
DTSTAMP:20260424T010013
CREATED:20181101T150525Z
LAST-MODIFIED:20181101T150555Z
UID:1328-1541840400-1541851200@1stchurchpreschool.org
SUMMARY:Fall Family Work Day
DESCRIPTION:Bring the whole family and help us to clean up the playground\, spread new mulch\, add sand to the sand box\, power wash toys and do some small repairs. Rain date: Sat.\, Nov. 17th
URL:https://1stchurchpreschool.org/event/fall-family-work-day/
END:VEVENT
BEGIN:VEVENT
DTSTART;TZID=America/New_York:20181121T160000
DTEND;TZID=America/New_York:20181121T160000
DTSTAMP:20260424T010013
CREATED:20181101T150949Z
LAST-MODIFIED:20181101T150949Z
UID:1333-1542816000-1542816000@1stchurchpreschool.org
SUMMARY:Early Dismissal - 4 PM
DESCRIPTION:
URL:https://1stchurchpreschool.org/event/early-dismissal-4-pm/
END:VEVENT
BEGIN:VEVENT
DTSTART;VALUE=DATE:20181122
DTEND;VALUE=DATE:20181123
DTSTAMP:20260424T010013
CREATED:20181101T151522Z
LAST-MODIFIED:20181101T151522Z
UID:1337-1542844800-1542931199@1stchurchpreschool.org
SUMMARY:Thanksgiving -- No School
DESCRIPTION:
URL:https://1stchurchpreschool.org/event/thanksgiving-no-school/
END:VEVENT
BEGIN:VEVENT
DTSTART;VALUE=DATE:20181123
DTEND;VALUE=DATE:20181124
DTSTAMP:20260424T010013
CREATED:20170915T160519Z
LAST-MODIFIED:20181101T151132Z
UID:1219-1542931200-1543017599@1stchurchpreschool.org
SUMMARY:Thanksgiving Break -- No School
DESCRIPTION:
URL:https://1stchurchpreschool.org/event/thanksgiving-day-no-school/
END:VEVENT
END:VCALENDAR