BEGIN:VCALENDAR
VERSION:2.0
PRODID:-//1st Church Preschool - ECPv6.15.20//NONSGML v1.0//EN
CALSCALE:GREGORIAN
METHOD:PUBLISH
X-ORIGINAL-URL:https://1stchurchpreschool.org
X-WR-CALDESC:Events for 1st Church Preschool
REFRESH-INTERVAL;VALUE=DURATION:PT1H
X-Robots-Tag:noindex
X-PUBLISHED-TTL:PT1H
BEGIN:VTIMEZONE
TZID:America/New_York
BEGIN:DAYLIGHT
TZOFFSETFROM:-0500
TZOFFSETTO:-0400
TZNAME:EDT
DTSTART:20160313T070000
END:DAYLIGHT
BEGIN:STANDARD
TZOFFSETFROM:-0400
TZOFFSETTO:-0500
TZNAME:EST
DTSTART:20161106T060000
END:STANDARD
BEGIN:DAYLIGHT
TZOFFSETFROM:-0500
TZOFFSETTO:-0400
TZNAME:EDT
DTSTART:20170312T070000
END:DAYLIGHT
BEGIN:STANDARD
TZOFFSETFROM:-0400
TZOFFSETTO:-0500
TZNAME:EST
DTSTART:20171105T060000
END:STANDARD
BEGIN:DAYLIGHT
TZOFFSETFROM:-0500
TZOFFSETTO:-0400
TZNAME:EDT
DTSTART:20180311T070000
END:DAYLIGHT
BEGIN:STANDARD
TZOFFSETFROM:-0400
TZOFFSETTO:-0500
TZNAME:EST
DTSTART:20181104T060000
END:STANDARD
END:VTIMEZONE
BEGIN:VEVENT
DTSTART;TZID=America/New_York:20170325T100000
DTEND;TZID=America/New_York:20170325T110000
DTSTAMP:20260425T095559
CREATED:20170117T195116Z
LAST-MODIFIED:20170117T195116Z
UID:967-1490436000-1490439600@1stchurchpreschool.org
SUMMARY:1st Church Preschool Annual Community Event
DESCRIPTION:1st Church Preschool Annual Community Event \nT-Bone “America’s Musical Pied Piper” \nWebsite: www.t-bonemusic.com
URL:https://1stchurchpreschool.org/event/1st-church-preschool-annual-community-event/
LOCATION:1st Church Preschool\, 111 CHURCH DR\, CHESHIRE\, CT\, 064103104
ORGANIZER;CN="":MAILTO:brenda@1stchurchpreschool.org
END:VEVENT
END:VCALENDAR